BEGIN:VCALENDAR
VERSION:2.0
PRODID:-//nadannmedia - ECPv6.15.20//NONSGML v1.0//EN
CALSCALE:GREGORIAN
METHOD:PUBLISH
X-ORIGINAL-URL:https://nadannmedia.de
X-WR-CALDESC:Veranstaltungen für nadannmedia
REFRESH-INTERVAL;VALUE=DURATION:PT1H
X-Robots-Tag:noindex
X-PUBLISHED-TTL:PT1H
BEGIN:VTIMEZONE
TZID:Europe/Berlin
BEGIN:DAYLIGHT
TZOFFSETFROM:+0100
TZOFFSETTO:+0200
TZNAME:CEST
DTSTART:20200329T010000
END:DAYLIGHT
BEGIN:STANDARD
TZOFFSETFROM:+0200
TZOFFSETTO:+0100
TZNAME:CET
DTSTART:20201025T010000
END:STANDARD
BEGIN:DAYLIGHT
TZOFFSETFROM:+0100
TZOFFSETTO:+0200
TZNAME:CEST
DTSTART:20210328T010000
END:DAYLIGHT
BEGIN:STANDARD
TZOFFSETFROM:+0200
TZOFFSETTO:+0100
TZNAME:CET
DTSTART:20211031T010000
END:STANDARD
BEGIN:DAYLIGHT
TZOFFSETFROM:+0100
TZOFFSETTO:+0200
TZNAME:CEST
DTSTART:20220327T010000
END:DAYLIGHT
BEGIN:STANDARD
TZOFFSETFROM:+0200
TZOFFSETTO:+0100
TZNAME:CET
DTSTART:20221030T010000
END:STANDARD
END:VTIMEZONE
BEGIN:VEVENT
DTSTART;TZID=Europe/Berlin:20211116T080000
DTEND;TZID=Europe/Berlin:20211116T203000
DTSTAMP:20260424T203334
CREATED:20211117T172947Z
LAST-MODIFIED:20211117T172947Z
UID:2262-1637049600-1637094600@nadannmedia.de
SUMMARY:211116 L1
DESCRIPTION:
URL:https://nadannmedia.de/termin/211116-l1/
LOCATION:Backhaus Lützellinden
END:VEVENT
BEGIN:VEVENT
DTSTART;TZID=Europe/Berlin:20211116T193000
DTEND;TZID=Europe/Berlin:20211116T193000
DTSTAMP:20260424T203334
CREATED:20211117T172813Z
LAST-MODIFIED:20211117T172813Z
UID:2258-1637091000-1637091000@nadannmedia.de
SUMMARY:211116 L2
DESCRIPTION:
URL:https://nadannmedia.de/termin/211116-l2/
LOCATION:Backhaus Lützellinden
END:VEVENT
BEGIN:VEVENT
DTSTART;TZID=Europe/Berlin:20211116T220000
DTEND;TZID=Europe/Berlin:20211116T234500
DTSTAMP:20260424T203334
CREATED:20211117T173139Z
LAST-MODIFIED:20211117T173139Z
UID:2264-1637100000-1637106300@nadannmedia.de
SUMMARY:211116 HV
DESCRIPTION:
URL:https://nadannmedia.de/termin/211116-hv/
LOCATION:Bürgerhaus Oppenrod
END:VEVENT
END:VCALENDAR