BEGIN:VCALENDAR
VERSION:2.0
PRODID:-//nadannmedia - ECPv6.15.20//NONSGML v1.0//EN
CALSCALE:GREGORIAN
METHOD:PUBLISH
X-ORIGINAL-URL:https://nadannmedia.de
X-WR-CALDESC:Veranstaltungen für nadannmedia
REFRESH-INTERVAL;VALUE=DURATION:PT1H
X-Robots-Tag:noindex
X-PUBLISHED-TTL:PT1H
BEGIN:VTIMEZONE
TZID:Europe/Berlin
BEGIN:DAYLIGHT
TZOFFSETFROM:+0100
TZOFFSETTO:+0200
TZNAME:CEST
DTSTART:20200329T010000
END:DAYLIGHT
BEGIN:STANDARD
TZOFFSETFROM:+0200
TZOFFSETTO:+0100
TZNAME:CET
DTSTART:20201025T010000
END:STANDARD
BEGIN:DAYLIGHT
TZOFFSETFROM:+0100
TZOFFSETTO:+0200
TZNAME:CEST
DTSTART:20210328T010000
END:DAYLIGHT
BEGIN:STANDARD
TZOFFSETFROM:+0200
TZOFFSETTO:+0100
TZNAME:CET
DTSTART:20211031T010000
END:STANDARD
BEGIN:DAYLIGHT
TZOFFSETFROM:+0100
TZOFFSETTO:+0200
TZNAME:CEST
DTSTART:20220327T010000
END:DAYLIGHT
BEGIN:STANDARD
TZOFFSETFROM:+0200
TZOFFSETTO:+0100
TZNAME:CET
DTSTART:20221030T010000
END:STANDARD
END:VTIMEZONE
BEGIN:VEVENT
DTSTART;TZID=Europe/Berlin:20211121T093000
DTEND;TZID=Europe/Berlin:20211121T113000
DTSTAMP:20260424T203454
CREATED:20211128T083908Z
LAST-MODIFIED:20211128T083908Z
UID:2298-1637487000-1637494200@nadannmedia.de
SUMMARY:211121 OR R1 A Totensonntag
DESCRIPTION:Beginn: 1000 / Der Kirchenchor singt in der Kirche an / Kleidung: warm\, gedeckt
URL:https://nadannmedia.de/termin/211121-or-r1-a-totensonntag/
LOCATION:Friedhof Reiskirchen
END:VEVENT
BEGIN:VEVENT
DTSTART;TZID=Europe/Berlin:20211121T130000
DTEND;TZID=Europe/Berlin:20211121T144500
DTSTAMP:20260424T203454
CREATED:20211128T084135Z
LAST-MODIFIED:20211128T084135Z
UID:2301-1637499600-1637505900@nadannmedia.de
SUMMARY:211121 TR A Totensonntag
DESCRIPTION:Ansingen im Gemeindehaus / Beginn 1400 / Kleidung: warm\, gedeckt
URL:https://nadannmedia.de/termin/211121-tr-a-totensonntag/
LOCATION:Friedhof Treis
END:VEVENT
END:VCALENDAR