BEGIN:VCALENDAR
VERSION:2.0
PRODID:-//nadannmedia - ECPv6.15.20//NONSGML v1.0//EN
CALSCALE:GREGORIAN
METHOD:PUBLISH
X-WR-CALNAME:nadannmedia
X-ORIGINAL-URL:https://nadannmedia.de
X-WR-CALDESC:Veranstaltungen für nadannmedia
REFRESH-INTERVAL;VALUE=DURATION:PT1H
X-Robots-Tag:noindex
X-PUBLISHED-TTL:PT1H
BEGIN:VTIMEZONE
TZID:Europe/Berlin
BEGIN:DAYLIGHT
TZOFFSETFROM:+0100
TZOFFSETTO:+0200
TZNAME:CEST
DTSTART:20200329T010000
END:DAYLIGHT
BEGIN:STANDARD
TZOFFSETFROM:+0200
TZOFFSETTO:+0100
TZNAME:CET
DTSTART:20201025T010000
END:STANDARD
BEGIN:DAYLIGHT
TZOFFSETFROM:+0100
TZOFFSETTO:+0200
TZNAME:CEST
DTSTART:20210328T010000
END:DAYLIGHT
BEGIN:STANDARD
TZOFFSETFROM:+0200
TZOFFSETTO:+0100
TZNAME:CET
DTSTART:20211031T010000
END:STANDARD
BEGIN:DAYLIGHT
TZOFFSETFROM:+0100
TZOFFSETTO:+0200
TZNAME:CEST
DTSTART:20220327T010000
END:DAYLIGHT
BEGIN:STANDARD
TZOFFSETFROM:+0200
TZOFFSETTO:+0100
TZNAME:CET
DTSTART:20221030T010000
END:STANDARD
END:VTIMEZONE
BEGIN:VEVENT
DTSTART;TZID=Europe/Berlin:20211130T193000
DTEND;TZID=Europe/Berlin:20211130T203000
DTSTAMP:20260424T185813
CREATED:20211128T115003Z
LAST-MODIFIED:20211128T115003Z
UID:2327-1638300600-1638304200@nadannmedia.de
SUMMARY:211130 L2
DESCRIPTION:
URL:https://nadannmedia.de/termin/211130-l2/
LOCATION:Backhaus Lützellinden
END:VEVENT
BEGIN:VEVENT
DTSTART;TZID=Europe/Berlin:20211130T203000
DTEND;TZID=Europe/Berlin:20211130T213000
DTSTAMP:20260424T185813
CREATED:20211128T114831Z
LAST-MODIFIED:20211128T114831Z
UID:2325-1638304200-1638307800@nadannmedia.de
SUMMARY:211130 L1
DESCRIPTION:
URL:https://nadannmedia.de/termin/211130-l1/
LOCATION:Backhaus Lützellinden
END:VEVENT
BEGIN:VEVENT
DTSTART;TZID=Europe/Berlin:20211130T220000
DTEND;TZID=Europe/Berlin:20211130T220000
DTSTAMP:20260424T185813
CREATED:20211204T111414Z
LAST-MODIFIED:20211204T111414Z
UID:2414-1638309600-1638309600@nadannmedia.de
SUMMARY:211130 HV
DESCRIPTION:Nicht wirklich\, nur kurze Besprechung\, war zu platt
URL:https://nadannmedia.de/termin/211130-hv/
LOCATION:Bürgerhaus Oppenrod
END:VEVENT
END:VCALENDAR