BEGIN:VCALENDAR
VERSION:2.0
PRODID:-//nadannmedia - ECPv6.15.20//NONSGML v1.0//EN
CALSCALE:GREGORIAN
METHOD:PUBLISH
X-WR-CALNAME:nadannmedia
X-ORIGINAL-URL:https://nadannmedia.de
X-WR-CALDESC:Veranstaltungen für nadannmedia
REFRESH-INTERVAL;VALUE=DURATION:PT1H
X-Robots-Tag:noindex
X-PUBLISHED-TTL:PT1H
BEGIN:VTIMEZONE
TZID:Europe/Berlin
BEGIN:DAYLIGHT
TZOFFSETFROM:+0100
TZOFFSETTO:+0200
TZNAME:CEST
DTSTART:20200329T010000
END:DAYLIGHT
BEGIN:STANDARD
TZOFFSETFROM:+0200
TZOFFSETTO:+0100
TZNAME:CET
DTSTART:20201025T010000
END:STANDARD
BEGIN:DAYLIGHT
TZOFFSETFROM:+0100
TZOFFSETTO:+0200
TZNAME:CEST
DTSTART:20210328T010000
END:DAYLIGHT
BEGIN:STANDARD
TZOFFSETFROM:+0200
TZOFFSETTO:+0100
TZNAME:CET
DTSTART:20211031T010000
END:STANDARD
BEGIN:DAYLIGHT
TZOFFSETFROM:+0100
TZOFFSETTO:+0200
TZNAME:CEST
DTSTART:20220327T010000
END:DAYLIGHT
BEGIN:STANDARD
TZOFFSETFROM:+0200
TZOFFSETTO:+0100
TZNAME:CET
DTSTART:20221030T010000
END:STANDARD
END:VTIMEZONE
BEGIN:VEVENT
DTSTART;TZID=Europe/Berlin:20211101T193000
DTEND;TZID=Europe/Berlin:20211101T213000
DTSTAMP:20260424T190512
CREATED:20211128T121045Z
LAST-MODIFIED:20211128T121045Z
UID:2352-1635795000-1635802200@nadannmedia.de
SUMMARY:211101 R1
DESCRIPTION:
URL:https://nadannmedia.de/termin/211101-r1/
LOCATION:Evangelisches Gemeindehaus Reiskirchen\, Sandgasse 11\, Reiskirchen\, 35447\, Deutschland
END:VEVENT
BEGIN:VEVENT
DTSTART;TZID=Europe/Berlin:20211102T193000
DTEND;TZID=Europe/Berlin:20211102T203000
DTSTAMP:20260424T190512
CREATED:20211128T121425Z
LAST-MODIFIED:20211128T121425Z
UID:2358-1635881400-1635885000@nadannmedia.de
SUMMARY:211102 L2
DESCRIPTION:
URL:https://nadannmedia.de/termin/211102-l2/
LOCATION:Backhaus Lützellinden
END:VEVENT
BEGIN:VEVENT
DTSTART;TZID=Europe/Berlin:20211102T203000
DTEND;TZID=Europe/Berlin:20211102T213000
DTSTAMP:20260424T190512
CREATED:20211128T121337Z
LAST-MODIFIED:20211128T121337Z
UID:2356-1635885000-1635888600@nadannmedia.de
SUMMARY:211102 L1
DESCRIPTION:
URL:https://nadannmedia.de/termin/211102-l1/
LOCATION:Backhaus Lützellinden
END:VEVENT
BEGIN:VEVENT
DTSTART;TZID=Europe/Berlin:20211103T193000
DTEND;TZID=Europe/Berlin:20211103T210000
DTSTAMP:20260424T190512
CREATED:20211128T123002Z
LAST-MODIFIED:20211128T123017Z
UID:2375-1635967800-1635973200@nadannmedia.de
SUMMARY:211103 TR (Natur- und Vogelfreunde)
DESCRIPTION:Essen: Chris
URL:https://nadannmedia.de/termin/211103-tr-natur-und-vogelfreunde/
END:VEVENT
BEGIN:VEVENT
DTSTART;TZID=Europe/Berlin:20211104T193000
DTEND;TZID=Europe/Berlin:20211104T213000
DTSTAMP:20260424T190512
CREATED:20211128T123110Z
LAST-MODIFIED:20211128T123110Z
UID:2377-1636054200-1636061400@nadannmedia.de
SUMMARY:211104 BAL
DESCRIPTION:
URL:https://nadannmedia.de/termin/211104-bal/
LOCATION:Dorfgemeinschaftshaus Ballersbach
END:VEVENT
BEGIN:VEVENT
DTSTART;TZID=Europe/Berlin:20211105T170000
DTEND;TZID=Europe/Berlin:20211105T183000
DTSTAMP:20260424T190512
CREATED:20211128T123237Z
LAST-MODIFIED:20211128T123237Z
UID:2379-1636131600-1636137000@nadannmedia.de
SUMMARY:211105 LK
DESCRIPTION:
URL:https://nadannmedia.de/termin/211105-lk/
LOCATION:Evangelisches Gemeindehaus Lützellinden
END:VEVENT
BEGIN:VEVENT
DTSTART;TZID=Europe/Berlin:20211105T193000
DTEND;TZID=Europe/Berlin:20211105T214500
DTSTAMP:20260424T190512
CREATED:20211128T123320Z
LAST-MODIFIED:20211128T123320Z
UID:2382-1636140600-1636148700@nadannmedia.de
SUMMARY:211105 BR
DESCRIPTION:
URL:https://nadannmedia.de/termin/211105-br/
LOCATION:Remise Buseck
END:VEVENT
BEGIN:VEVENT
DTSTART;TZID=Europe/Berlin:20211106T130000
DTEND;TZID=Europe/Berlin:20211106T140000
DTSTAMP:20260424T190512
CREATED:20211128T123442Z
LAST-MODIFIED:20211128T123442Z
UID:2384-1636203600-1636207200@nadannmedia.de
SUMMARY:211106 OR Taufe
DESCRIPTION:
URL:https://nadannmedia.de/termin/211106-or-taufe/
LOCATION:Evangelische Kirche Reiskirchen
END:VEVENT
BEGIN:VEVENT
DTSTART;TZID=Europe/Berlin:20211106T130000
DTEND;TZID=Europe/Berlin:20211106T163000
DTSTAMP:20260424T190512
CREATED:20211128T115655Z
LAST-MODIFIED:20211128T115823Z
UID:2338-1636203600-1636216200@nadannmedia.de
SUMMARY:211106 Ständchen Kurt Stiem
DESCRIPTION:
URL:https://nadannmedia.de/termin/211106-staendchen-kurt-stiem/
END:VEVENT
BEGIN:VEVENT
DTSTART;TZID=Europe/Berlin:20211108T193000
DTEND;TZID=Europe/Berlin:20211108T213000
DTSTAMP:20260424T190512
CREATED:20211128T121139Z
LAST-MODIFIED:20211128T121139Z
UID:2354-1636399800-1636407000@nadannmedia.de
SUMMARY:211108 R1
DESCRIPTION:
URL:https://nadannmedia.de/termin/211108-r1/
LOCATION:Evangelisches Gemeindehaus Reiskirchen\, Sandgasse 11\, Reiskirchen\, 35447\, Deutschland
END:VEVENT
BEGIN:VEVENT
DTSTART;TZID=Europe/Berlin:20211109T193000
DTEND;TZID=Europe/Berlin:20211109T203000
DTSTAMP:20260424T190512
CREATED:20211128T121615Z
LAST-MODIFIED:20211128T121615Z
UID:2362-1636486200-1636489800@nadannmedia.de
SUMMARY:211109 L2
DESCRIPTION:
URL:https://nadannmedia.de/termin/211109-l2/
LOCATION:Backhaus Lützellinden
END:VEVENT
BEGIN:VEVENT
DTSTART;TZID=Europe/Berlin:20211109T203000
DTEND;TZID=Europe/Berlin:20211109T213000
DTSTAMP:20260424T190512
CREATED:20211128T121540Z
LAST-MODIFIED:20211128T121540Z
UID:2360-1636489800-1636493400@nadannmedia.de
SUMMARY:211109 L1
DESCRIPTION:
URL:https://nadannmedia.de/termin/211109-l1/
LOCATION:Backhaus Lützellinden
END:VEVENT
BEGIN:VEVENT
DTSTART;TZID=Europe/Berlin:20211110T193000
DTEND;TZID=Europe/Berlin:20211110T210000
DTSTAMP:20260424T190512
CREATED:20211128T121924Z
LAST-MODIFIED:20211128T122355Z
UID:2364-1636572600-1636578000@nadannmedia.de
SUMMARY:211110 TR (Helga)
DESCRIPTION:(Essen: Helga)
URL:https://nadannmedia.de/termin/211110-tr-helga/
LOCATION:Treis privat
END:VEVENT
BEGIN:VEVENT
DTSTART;TZID=Europe/Berlin:20211111T193000
DTEND;TZID=Europe/Berlin:20211111T213000
DTSTAMP:20260424T190512
CREATED:20211128T122716Z
LAST-MODIFIED:20211128T122716Z
UID:2371-1636659000-1636666200@nadannmedia.de
SUMMARY:211111 BAL
DESCRIPTION:
URL:https://nadannmedia.de/termin/211111-bal/
LOCATION:Dorfgemeinschaftshaus Ballersbach
END:VEVENT
BEGIN:VEVENT
DTSTART;TZID=Europe/Berlin:20211112T193000
DTEND;TZID=Europe/Berlin:20211112T214500
DTSTAMP:20260424T190512
CREATED:20211128T122800Z
LAST-MODIFIED:20211128T122800Z
UID:2373-1636745400-1636753500@nadannmedia.de
SUMMARY:211112 BR
DESCRIPTION:
URL:https://nadannmedia.de/termin/211112-br/
LOCATION:Remise Buseck
END:VEVENT
BEGIN:VEVENT
DTSTART;TZID=Europe/Berlin:20211113T160000
DTEND;TZID=Europe/Berlin:20211113T180000
DTSTAMP:20260424T190512
CREATED:20211128T120846Z
LAST-MODIFIED:20211128T120846Z
UID:2350-1636819200-1636826400@nadannmedia.de
SUMMARY:211114 GV BAL
DESCRIPTION:Kleiner Bericht des Chorleiters
URL:https://nadannmedia.de/termin/211114-gv-bal/
LOCATION:Dorfgemeinschaftshaus Ballersbach
END:VEVENT
BEGIN:VEVENT
DTSTART;TZID=Europe/Berlin:20211114T100000
DTEND;TZID=Europe/Berlin:20211114T110000
DTSTAMP:20260424T190512
CREATED:20211128T120452Z
LAST-MODIFIED:20211128T120512Z
UID:2344-1636884000-1636887600@nadannmedia.de
SUMMARY:211114 OR Volkstrauertag
DESCRIPTION:
URL:https://nadannmedia.de/termin/211114-or-volkstrauertag/
LOCATION:Evangelische Kirche Reiskirchen
END:VEVENT
BEGIN:VEVENT
DTSTART;TZID=Europe/Berlin:20211114T164500
DTEND;TZID=Europe/Berlin:20211114T180000
DTSTAMP:20260424T190512
CREATED:20211128T120639Z
LAST-MODIFIED:20211128T120639Z
UID:2346-1636908300-1636912800@nadannmedia.de
SUMMARY:211114 Sängerlustig
DESCRIPTION:
URL:https://nadannmedia.de/termin/211114-saengerlustig/
LOCATION:Bürgerhaus Oppenrod
END:VEVENT
BEGIN:VEVENT
DTSTART;TZID=Europe/Berlin:20211114T180000
DTEND;TZID=Europe/Berlin:20211114T200000
DTSTAMP:20260424T190512
CREATED:20211128T120726Z
LAST-MODIFIED:20211128T120726Z
UID:2348-1636912800-1636920000@nadannmedia.de
SUMMARY:211114 HV
DESCRIPTION:
URL:https://nadannmedia.de/termin/211114-hv/
LOCATION:Bürgerhaus Oppenrod
END:VEVENT
BEGIN:VEVENT
DTSTART;TZID=Europe/Berlin:20211115T193000
DTEND;TZID=Europe/Berlin:20211115T213000
DTSTAMP:20260424T190512
CREATED:20211115T173336Z
LAST-MODIFIED:20211115T173547Z
UID:2252-1637004600-1637011800@nadannmedia.de
SUMMARY:211115 R1
DESCRIPTION:
URL:https://nadannmedia.de/termin/211115-r1/
LOCATION:Evangelisches Gemeindehaus Reiskirchen\, Sandgasse 11\, Reiskirchen\, 35447\, Deutschland
END:VEVENT
BEGIN:VEVENT
DTSTART;TZID=Europe/Berlin:20211116T080000
DTEND;TZID=Europe/Berlin:20211116T203000
DTSTAMP:20260424T190512
CREATED:20211117T172947Z
LAST-MODIFIED:20211117T172947Z
UID:2262-1637049600-1637094600@nadannmedia.de
SUMMARY:211116 L1
DESCRIPTION:
URL:https://nadannmedia.de/termin/211116-l1/
LOCATION:Backhaus Lützellinden
END:VEVENT
BEGIN:VEVENT
DTSTART;TZID=Europe/Berlin:20211116T193000
DTEND;TZID=Europe/Berlin:20211116T193000
DTSTAMP:20260424T190512
CREATED:20211117T172813Z
LAST-MODIFIED:20211117T172813Z
UID:2258-1637091000-1637091000@nadannmedia.de
SUMMARY:211116 L2
DESCRIPTION:
URL:https://nadannmedia.de/termin/211116-l2/
LOCATION:Backhaus Lützellinden
END:VEVENT
BEGIN:VEVENT
DTSTART;TZID=Europe/Berlin:20211116T220000
DTEND;TZID=Europe/Berlin:20211116T234500
DTSTAMP:20260424T190512
CREATED:20211117T173139Z
LAST-MODIFIED:20211117T173139Z
UID:2264-1637100000-1637106300@nadannmedia.de
SUMMARY:211116 HV
DESCRIPTION:
URL:https://nadannmedia.de/termin/211116-hv/
LOCATION:Bürgerhaus Oppenrod
END:VEVENT
BEGIN:VEVENT
DTSTART;TZID=Europe/Berlin:20211117T133000
DTEND;TZID=Europe/Berlin:20211117T170000
DTSTAMP:20260424T190512
CREATED:20211117T173511Z
LAST-MODIFIED:20211117T173511Z
UID:2268-1637155800-1637168400@nadannmedia.de
SUMMARY:211117 R1 L2 A Beerdigung Kara Schön
DESCRIPTION:rosedie-tro-satb\nirischesegenswuensche-pyt-satb
URL:https://nadannmedia.de/termin/211117-r1-l2-a-beerdigung-kara-schoen/
END:VEVENT
BEGIN:VEVENT
DTSTART;TZID=Europe/Berlin:20211117T180000
DTEND;TZID=Europe/Berlin:20211117T180000
DTSTAMP:20260424T190512
CREATED:20211117T173653Z
LAST-MODIFIED:20211117T173721Z
UID:2271-1637172000-1637172000@nadannmedia.de
SUMMARY:211117 OR Buß- und Bettag
DESCRIPTION:
URL:https://nadannmedia.de/termin/211118-or-buss-und-bettag/
END:VEVENT
BEGIN:VEVENT
DTSTART;TZID=Europe/Berlin:20211117T201500
DTEND;TZID=Europe/Berlin:20211117T201500
DTSTAMP:20260424T190512
CREATED:20211120T201345Z
LAST-MODIFIED:20211120T202245Z
UID:2294-1637180100-1637180100@nadannmedia.de
SUMMARY:211117 TR
DESCRIPTION:
URL:https://nadannmedia.de/termin/211117-tr/
LOCATION:Gemeindehaus Treis
END:VEVENT
BEGIN:VEVENT
DTSTART;TZID=Europe/Berlin:20211118T193000
DTEND;TZID=Europe/Berlin:20211118T213000
DTSTAMP:20260424T190512
CREATED:20211120T195533Z
LAST-MODIFIED:20211120T195533Z
UID:2277-1637263800-1637271000@nadannmedia.de
SUMMARY:211118 BAL
DESCRIPTION:
URL:https://nadannmedia.de/termin/211118-bal/
LOCATION:Dorfgemeinschaftshaus Ballersbach
END:VEVENT
BEGIN:VEVENT
DTSTART;TZID=Europe/Berlin:20211119T170000
DTEND;TZID=Europe/Berlin:20211119T183000
DTSTAMP:20260424T190512
CREATED:20211120T195813Z
LAST-MODIFIED:20211120T195813Z
UID:2281-1637341200-1637346600@nadannmedia.de
SUMMARY:211119 LK
DESCRIPTION:
URL:https://nadannmedia.de/termin/211119-lk/
LOCATION:Evangelische Kirche Lützellinden
END:VEVENT
BEGIN:VEVENT
DTSTART;TZID=Europe/Berlin:20211119T193000
DTEND;TZID=Europe/Berlin:20211119T214500
DTSTAMP:20260424T190512
CREATED:20211120T195945Z
LAST-MODIFIED:20211120T200129Z
UID:2285-1637350200-1637358300@nadannmedia.de
SUMMARY:211119 BR
DESCRIPTION:
URL:https://nadannmedia.de/termin/211119-br/
LOCATION:Remise Buseck
END:VEVENT
BEGIN:VEVENT
DTSTART;TZID=Europe/Berlin:20211120T200000
DTEND;TZID=Europe/Berlin:20211120T220000
DTSTAMP:20260424T190512
CREATED:20211120T200449Z
LAST-MODIFIED:20211120T203224Z
UID:2289-1637438400-1637445600@nadannmedia.de
SUMMARY:211120 TR JHV
DESCRIPTION:
URL:https://nadannmedia.de/termin/211120-tr-jhv/
LOCATION:Gaststätte Am Bahnhof (Bing)
END:VEVENT
END:VCALENDAR