BEGIN:VCALENDAR
VERSION:2.0
PRODID:-//nadannmedia - ECPv6.15.20//NONSGML v1.0//EN
CALSCALE:GREGORIAN
METHOD:PUBLISH
X-ORIGINAL-URL:https://nadannmedia.de
X-WR-CALDESC:Veranstaltungen für nadannmedia
REFRESH-INTERVAL;VALUE=DURATION:PT1H
X-Robots-Tag:noindex
X-PUBLISHED-TTL:PT1H
BEGIN:VTIMEZONE
TZID:Europe/Berlin
BEGIN:DAYLIGHT
TZOFFSETFROM:+0100
TZOFFSETTO:+0200
TZNAME:CEST
DTSTART:20200329T010000
END:DAYLIGHT
BEGIN:STANDARD
TZOFFSETFROM:+0200
TZOFFSETTO:+0100
TZNAME:CET
DTSTART:20201025T010000
END:STANDARD
BEGIN:DAYLIGHT
TZOFFSETFROM:+0100
TZOFFSETTO:+0200
TZNAME:CEST
DTSTART:20210328T010000
END:DAYLIGHT
BEGIN:STANDARD
TZOFFSETFROM:+0200
TZOFFSETTO:+0100
TZNAME:CET
DTSTART:20211031T010000
END:STANDARD
BEGIN:DAYLIGHT
TZOFFSETFROM:+0100
TZOFFSETTO:+0200
TZNAME:CEST
DTSTART:20220327T010000
END:DAYLIGHT
BEGIN:STANDARD
TZOFFSETFROM:+0200
TZOFFSETTO:+0100
TZNAME:CET
DTSTART:20221030T010000
END:STANDARD
END:VTIMEZONE
BEGIN:VEVENT
DTSTART;TZID=Europe/Berlin:20211104T193000
DTEND;TZID=Europe/Berlin:20211104T213000
DTSTAMP:20260423T011128
CREATED:20211128T123110Z
LAST-MODIFIED:20211128T123110Z
UID:2377-1636054200-1636061400@nadannmedia.de
SUMMARY:211104 BAL
DESCRIPTION:
URL:https://nadannmedia.de/termin/211104-bal/
LOCATION:Dorfgemeinschaftshaus Ballersbach
END:VEVENT
BEGIN:VEVENT
DTSTART;TZID=Europe/Berlin:20211111T193000
DTEND;TZID=Europe/Berlin:20211111T213000
DTSTAMP:20260423T011128
CREATED:20211128T122716Z
LAST-MODIFIED:20211128T122716Z
UID:2371-1636659000-1636666200@nadannmedia.de
SUMMARY:211111 BAL
DESCRIPTION:
URL:https://nadannmedia.de/termin/211111-bal/
LOCATION:Dorfgemeinschaftshaus Ballersbach
END:VEVENT
BEGIN:VEVENT
DTSTART;TZID=Europe/Berlin:20211113T160000
DTEND;TZID=Europe/Berlin:20211113T180000
DTSTAMP:20260423T011128
CREATED:20211128T120846Z
LAST-MODIFIED:20211128T120846Z
UID:2350-1636819200-1636826400@nadannmedia.de
SUMMARY:211114 GV BAL
DESCRIPTION:Kleiner Bericht des Chorleiters
URL:https://nadannmedia.de/termin/211114-gv-bal/
LOCATION:Dorfgemeinschaftshaus Ballersbach
END:VEVENT
BEGIN:VEVENT
DTSTART;TZID=Europe/Berlin:20211118T193000
DTEND;TZID=Europe/Berlin:20211118T213000
DTSTAMP:20260423T011128
CREATED:20211120T195533Z
LAST-MODIFIED:20211120T195533Z
UID:2277-1637263800-1637271000@nadannmedia.de
SUMMARY:211118 BAL
DESCRIPTION:
URL:https://nadannmedia.de/termin/211118-bal/
LOCATION:Dorfgemeinschaftshaus Ballersbach
END:VEVENT
BEGIN:VEVENT
DTSTART;TZID=Europe/Berlin:20211125T193000
DTEND;TZID=Europe/Berlin:20211125T213000
DTSTAMP:20260423T011128
CREATED:20211128T112913Z
LAST-MODIFIED:20211128T112913Z
UID:2316-1637868600-1637875800@nadannmedia.de
SUMMARY:211125 BAL
DESCRIPTION:
URL:https://nadannmedia.de/termin/211125-bal/
LOCATION:Dorfgemeinschaftshaus Ballersbach
END:VEVENT
END:VCALENDAR