BEGIN:VCALENDAR
VERSION:2.0
PRODID:-//nadannmedia - ECPv6.15.20//NONSGML v1.0//EN
CALSCALE:GREGORIAN
METHOD:PUBLISH
X-ORIGINAL-URL:https://nadannmedia.de
X-WR-CALDESC:Veranstaltungen für nadannmedia
REFRESH-INTERVAL;VALUE=DURATION:PT1H
X-Robots-Tag:noindex
X-PUBLISHED-TTL:PT1H
BEGIN:VTIMEZONE
TZID:Europe/Berlin
BEGIN:DAYLIGHT
TZOFFSETFROM:+0100
TZOFFSETTO:+0200
TZNAME:CEST
DTSTART:20200329T010000
END:DAYLIGHT
BEGIN:STANDARD
TZOFFSETFROM:+0200
TZOFFSETTO:+0100
TZNAME:CET
DTSTART:20201025T010000
END:STANDARD
BEGIN:DAYLIGHT
TZOFFSETFROM:+0100
TZOFFSETTO:+0200
TZNAME:CEST
DTSTART:20210328T010000
END:DAYLIGHT
BEGIN:STANDARD
TZOFFSETFROM:+0200
TZOFFSETTO:+0100
TZNAME:CET
DTSTART:20211031T010000
END:STANDARD
BEGIN:DAYLIGHT
TZOFFSETFROM:+0100
TZOFFSETTO:+0200
TZNAME:CEST
DTSTART:20220327T010000
END:DAYLIGHT
BEGIN:STANDARD
TZOFFSETFROM:+0200
TZOFFSETTO:+0100
TZNAME:CET
DTSTART:20221030T010000
END:STANDARD
END:VTIMEZONE
BEGIN:VEVENT
DTSTART;TZID=Europe/Berlin:20211103T193000
DTEND;TZID=Europe/Berlin:20211103T210000
DTSTAMP:20260424T204607
CREATED:20211128T123002Z
LAST-MODIFIED:20211128T123017Z
UID:2375-1635967800-1635973200@nadannmedia.de
SUMMARY:211103 TR (Natur- und Vogelfreunde)
DESCRIPTION:Essen: Chris
URL:https://nadannmedia.de/termin/211103-tr-natur-und-vogelfreunde/
END:VEVENT
BEGIN:VEVENT
DTSTART;TZID=Europe/Berlin:20211110T193000
DTEND;TZID=Europe/Berlin:20211110T210000
DTSTAMP:20260424T204607
CREATED:20211128T121924Z
LAST-MODIFIED:20211128T122355Z
UID:2364-1636572600-1636578000@nadannmedia.de
SUMMARY:211110 TR (Helga)
DESCRIPTION:(Essen: Helga)
URL:https://nadannmedia.de/termin/211110-tr-helga/
LOCATION:Treis privat
END:VEVENT
BEGIN:VEVENT
DTSTART;TZID=Europe/Berlin:20211117T201500
DTEND;TZID=Europe/Berlin:20211117T201500
DTSTAMP:20260424T204607
CREATED:20211120T201345Z
LAST-MODIFIED:20211120T202245Z
UID:2294-1637180100-1637180100@nadannmedia.de
SUMMARY:211117 TR
DESCRIPTION:
URL:https://nadannmedia.de/termin/211117-tr/
LOCATION:Gemeindehaus Treis
END:VEVENT
BEGIN:VEVENT
DTSTART;TZID=Europe/Berlin:20211120T200000
DTEND;TZID=Europe/Berlin:20211120T220000
DTSTAMP:20260424T204607
CREATED:20211120T200449Z
LAST-MODIFIED:20211120T203224Z
UID:2289-1637438400-1637445600@nadannmedia.de
SUMMARY:211120 TR JHV
DESCRIPTION:
URL:https://nadannmedia.de/termin/211120-tr-jhv/
LOCATION:Gaststätte Am Bahnhof (Bing)
END:VEVENT
BEGIN:VEVENT
DTSTART;TZID=Europe/Berlin:20211121T130000
DTEND;TZID=Europe/Berlin:20211121T144500
DTSTAMP:20260424T204607
CREATED:20211128T084135Z
LAST-MODIFIED:20211128T084135Z
UID:2301-1637499600-1637505900@nadannmedia.de
SUMMARY:211121 TR A Totensonntag
DESCRIPTION:Ansingen im Gemeindehaus / Beginn 1400 / Kleidung: warm\, gedeckt
URL:https://nadannmedia.de/termin/211121-tr-a-totensonntag/
LOCATION:Friedhof Treis
END:VEVENT
BEGIN:VEVENT
DTSTART;TZID=Europe/Berlin:20211124T201500
DTEND;TZID=Europe/Berlin:20211124T214500
DTSTAMP:20260424T204607
CREATED:20211128T084943Z
LAST-MODIFIED:20211128T115122Z
UID:2314-1637784900-1637790300@nadannmedia.de
SUMMARY:211124 TR
DESCRIPTION:2000 Testtermin Pohlheim
URL:https://nadannmedia.de/termin/211124-tr/
LOCATION:Schule Treis
END:VEVENT
END:VCALENDAR